BEGIN:VCALENDAR
VERSION:2.0
PRODID:SchoolNow
CALSCALE:GREGORIAN
BEGIN:VEVENT
UID:27c1d440-5e26-11ef-9e1c-0a58a9feac02
DTSTAMP:20241219T145415Z
SUMMARY:CDD Board Meeting - Dec. 2024 - Cancelled
LOCATION:Carriage Pointe Clubhouse\, 11796 Ekker Road Gibsonton\, FL 33534 
 United States
URL;VALUE=URI:https://www.panthertrailscdd.org/calendar/6425167/cdd-board-m
 eeting-dec-2024
DTSTART:20241212T223000Z
DTEND:20241213T003000Z
END:VEVENT
END:VCALENDAR
