BEGIN:VCALENDAR
VERSION:2.0
PRODID:SchoolNow
CALSCALE:GREGORIAN
BEGIN:VEVENT
UID:34590f70-5e26-11ef-b052-0a58a9feac02
DTSTAMP:20250102T221324Z
SUMMARY:CDD Board Meeting - Jan. 2025
LOCATION:Carriage Pointe Clubhouse\, 11796 Ekker Road Gibsonton\, FL 33534 
 United States
URL;VALUE=URI:https://www.panthertrailscdd.org/calendar/6425168/cdd-board-m
 eeting-jan-2025
DTSTART:20250109T223000Z
DTEND:20250110T003000Z
ATTACH;FILENAME=2025-01-09 -Panther Trails CDD - Final Agenda.pdf;FMTTYPE=a
 pplication/pdf:https://campussuite-storage.s3.amazonaws.com/prod/1558890/d
 f689d40-ea9a-11e9-b016-0a31933f87ea/2897604/ab1d8cda-c956-11ef-af6c-0a58a9
 feac02/file/2025-01-09 -Panther Trails CDD - Final Agenda.pdf
END:VEVENT
END:VCALENDAR
