BEGIN:VCALENDAR
VERSION:2.0
PRODID:SchoolNow
CALSCALE:GREGORIAN
BEGIN:VEVENT
UID:4019cc00-5e26-11ef-930f-0a58a9feac02
DTSTAMP:20250207T150628Z
SUMMARY:CDD Board Meeting - Feb. 2025
LOCATION:Carriage Pointe Clubhouse\, 11796 Ekker Road Gibsonton\, FL 33534 
 United States
URL;VALUE=URI:https://www.panthertrailscdd.org/calendar/6425169/cdd-board-m
 eeting-feb-2025
DTSTART:20250213T223000Z
DTEND:20250214T003000Z
ATTACH;FILENAME=2025-02-13-Panther Trails CDD - Final Agenda.pdf;FMTTYPE=ap
 plication/pdf:https://campussuite-storage.s3.amazonaws.com/prod/1558890/df
 689d40-ea9a-11e9-b016-0a31933f87ea/2912413/176be0be-e4da-11ef-9189-0a58a9f
 eac02/file/2025-02-13-Panther Trails CDD - Final Agenda.pdf
END:VEVENT
END:VCALENDAR
