BEGIN:VCALENDAR
VERSION:2.0
PRODID:SchoolNow
CALSCALE:GREGORIAN
BEGIN:VEVENT
UID:6f5552aa-5e26-11ef-85ff-0a58a9feac02
DTSTAMP:20250304T211334Z
SUMMARY:CDD Board Meeting - Mar. 2025 - Cancelled
LOCATION:Carriage Pointe Clubhouse\, 11796 Ekker Road Gibsonton\, FL 33534 
 United States
URL;VALUE=URI:https://www.panthertrailscdd.org/calendar/6425170/cdd-board-m
 eeting-mar-2025
DTSTART:20250313T213000Z
DTEND:20250313T233000Z
END:VEVENT
END:VCALENDAR
