BEGIN:VCALENDAR
VERSION:2.0
PRODID:SchoolNow
CALSCALE:GREGORIAN
BEGIN:VEVENT
UID:79003040-5e26-11ef-9db7-0a58a9feac02
DTSTAMP:20250409T205041Z
SUMMARY:CDD Board Meeting - Apr. 2025
LOCATION:Carriage Pointe Clubhouse\, 11796 Ekker Road Gibsonton\, FL 33534 
 United States
URL;VALUE=URI:https://www.panthertrailscdd.org/calendar/6425171/cdd-board-m
 eeting-apr-2025
DTSTART:20250410T213000Z
DTEND:20250410T233000Z
ATTACH;FILENAME=2025-04-10-Panther Trails CDD - Revised Final Agenda.pdf;FM
 TTYPE=application/pdf:https://campussuite-storage.s3.amazonaws.com/prod/15
 58890/df689d40-ea9a-11e9-b016-0a31933f87ea/2938739/46b474a0-1584-11f0-88b0
 -0affd67423f7/file/2025-04-10-Panther Trails CDD - Revised Final Agenda.pd
 f
END:VEVENT
END:VCALENDAR
