BEGIN:VCALENDAR
VERSION:2.0
PRODID:SchoolNow
CALSCALE:GREGORIAN
BEGIN:VEVENT
UID:83bf4da4-5e26-11ef-acec-02c0d752b5e9
DTSTAMP:20250430T204704Z
SUMMARY:CDD Board Meeting - May 2025
LOCATION:Carriage Pointe Clubhouse\, 11796 Ekker Road Gibsonton\, FL 33534 
 United States
URL;VALUE=URI:https://www.panthertrailscdd.org/calendar/6425172/cdd-board-m
 eeting-may-2025
DTSTART:20250508T213000Z
DTEND:20250508T233000Z
ATTACH;FILENAME=2025-05-08-Panther Trails CDD - Final Agenda.pdf;FMTTYPE=ap
 plication/pdf:https://campussuite-storage.s3.amazonaws.com/prod/1558890/df
 689d40-ea9a-11e9-b016-0a31933f87ea/2947388/41fe8b54-2604-11f0-8052-0a58a9f
 eac02/file/2025-05-08-Panther Trails CDD - Final Agenda.pdf
END:VEVENT
END:VCALENDAR
