BEGIN:VCALENDAR
VERSION:2.0
PRODID:SchoolNow
CALSCALE:GREGORIAN
BEGIN:VEVENT
UID:8e5160fe-5e26-11ef-8829-0a58a9feac02
DTSTAMP:20250521T191504Z
SUMMARY:CDD Board Meeting - Jun. 2025 - Cancelled
LOCATION:Carriage Pointe Clubhouse\, 11796 Ekker Road Gibsonton\, FL 33534 
 United States
URL;VALUE=URI:https://www.panthertrailscdd.org/calendar/6425173/cdd-board-m
 eeting-jun-2025
DTSTART:20250612T213000Z
DTEND:20250612T233000Z
END:VEVENT
END:VCALENDAR
