BEGIN:VCALENDAR
VERSION:2.0
PRODID:SchoolNow
CALSCALE:GREGORIAN
BEGIN:VEVENT
UID:97ee7c82-5e26-11ef-bddb-0a58a9feac02
DTSTAMP:20250623T133021Z
SUMMARY:CDD Board Meeting - Jul. 2025 - Cancelled
LOCATION:Carriage Pointe Clubhouse\, 11796 Ekker Road Gibsonton\, FL 33534 
 United States
URL;VALUE=URI:https://www.panthertrailscdd.org/calendar/6425174/cdd-board-m
 eeting-jul-2025
DTSTART:20250710T213000Z
DTEND:20250710T233000Z
END:VEVENT
END:VCALENDAR
