BEGIN:VCALENDAR
VERSION:2.0
PRODID:SchoolNow
CALSCALE:GREGORIAN
BEGIN:VEVENT
UID:a3c57de4-5e26-11ef-b61f-02cc8d9a588b
DTSTAMP:20250807T203754Z
SUMMARY:CDD Board Meeting - Aug. 2025
LOCATION:Carriage Pointe Clubhouse\, 11796 Ekker Road Gibsonton\, FL 33534 
 United States
URL;VALUE=URI:https://www.panthertrailscdd.org/calendar/6425175/cdd-board-m
 eeting-aug-2025
DTSTART:20250814T213000Z
DTEND:20250814T233000Z
ATTACH;FILENAME=2025-08-14-Panther Trails CDD - Final Agenda.pdf;FMTTYPE=ap
 plication/pdf:https://campussuite-storage.s3.amazonaws.com/prod/1558890/df
 689d40-ea9a-11e9-b016-0a31933f87ea/2990009/60a10484-73ce-11f0-989a-02a999d
 f172f/file/2025-08-14-Panther Trails CDD - Final Agenda.pdf
END:VEVENT
END:VCALENDAR
