BEGIN:VCALENDAR
VERSION:2.0
PRODID:SchoolNow
CALSCALE:GREGORIAN
BEGIN:VEVENT
UID:b0f6dd28-5e26-11ef-b032-0affca56ad9d
DTSTAMP:20250904T165317Z
SUMMARY:CDD Board Meeting - Sept. 2025 - Cancelled
LOCATION:Carriage Pointe Clubhouse\, 11796 Ekker Road Gibsonton\, FL 33534 
 United States
URL;VALUE=URI:https://www.panthertrailscdd.org/calendar/6425176/cdd-board-m
 eeting-sept-2025
DTSTART:20250911T213000Z
DTEND:20250911T233000Z
END:VEVENT
END:VCALENDAR
