BEGIN:VCALENDAR
VERSION:2.0
PRODID:SchoolNow
CALSCALE:GREGORIAN
BEGIN:VEVENT
UID:10d04194-9fc1-11f0-af1d-0a58a9feac02
DTSTAMP:20251009T170514Z
SUMMARY:CDD Board Meeting - Oct. 2025 - Cancelled
LOCATION:Carriage Pointe Clubhouse\, 11796 Ekker Road Gibsonton\, FL 33534 
 United States
URL;VALUE=URI:https://www.panthertrailscdd.org/calendar/8688679/cdd-board-m
 eeting-oct-2025
DTSTART:20251009T213000Z
DTEND:20251009T233000Z
END:VEVENT
END:VCALENDAR
