BEGIN:VCALENDAR
VERSION:2.0
PRODID:SchoolNow
CALSCALE:GREGORIAN
BEGIN:VEVENT
UID:9051d570-b5d5-11f0-aca6-0afffd3d0e61
DTSTAMP:20251030T211530Z
SUMMARY:CDD Board Meeting - Nov. 2025
LOCATION:Carriage Pointe Clubhouse\, 11796 Ekker Road Gibsonton\, FL 33534 
 United States
URL;VALUE=URI:https://www.panthertrailscdd.org/calendar/8762364/cdd-board-m
 eeting-oct-2025-clone
DTSTART:20251106T223000Z
DTEND:20251107T003000Z
ATTACH;FILENAME=2025-11-06-Panther Trails CDD - Final Agenda.pdf;FMTTYPE=ap
 plication/pdf:https://campussuite-storage.s3.amazonaws.com/prod/1558890/df
 689d40-ea9a-11e9-b016-0a31933f87ea/3029402/8d6d486c-b5d5-11f0-a6af-0afff3d
 351ff/file/2025-11-06-Panther Trails CDD - Final Agenda.pdf
END:VEVENT
END:VCALENDAR
