BEGIN:VCALENDAR
VERSION:2.0
PRODID:SchoolNow
CALSCALE:GREGORIAN
BEGIN:VEVENT
UID:205edee6-c937-11f0-84d0-0a58a9feac02
DTSTAMP:20251124T131145Z
SUMMARY:CDD Board Meeting - May 2026
LOCATION:Carriage Pointe Clubhouse\, 11796 Ekker Road Gibsonton\, FL 33534 
 United States
URL;VALUE=URI:https://www.panthertrailscdd.org/calendar/8808890/cdd-board-m
 eeting-may-2026
DTSTART:20260507T213000Z
DTEND:20260507T233000Z
END:VEVENT
END:VCALENDAR
