BEGIN:VCALENDAR
VERSION:2.0
PRODID:SchoolNow
CALSCALE:GREGORIAN
BEGIN:VEVENT
UID:295bfa6a-c937-11f0-8008-02ea2a6aa5a3
DTSTAMP:20251124T131200Z
SUMMARY:CDD Board Meeting - Jun. 2026
LOCATION:Carriage Pointe Clubhouse\, 11796 Ekker Road Gibsonton\, FL 33534 
 United States
URL;VALUE=URI:https://www.panthertrailscdd.org/calendar/8808891/cdd-board-m
 eeting-jun-2026
DTSTART:20260611T213000Z
DTEND:20260611T233000Z
END:VEVENT
END:VCALENDAR
