BEGIN:VCALENDAR
VERSION:2.0
PRODID:SchoolNow
CALSCALE:GREGORIAN
BEGIN:VEVENT
UID:3218860a-c937-11f0-a896-02ea2a6aa5a3
DTSTAMP:20251124T131214Z
SUMMARY:CDD Board Meeting - Jul. 2026
LOCATION:Carriage Pointe Clubhouse\, 11796 Ekker Road Gibsonton\, FL 33534 
 United States
URL;VALUE=URI:https://www.panthertrailscdd.org/calendar/8808892/cdd-board-m
 eeting-jul-2026
DTSTART:20260709T213000Z
DTEND:20260709T233000Z
END:VEVENT
END:VCALENDAR
