BEGIN:VCALENDAR
VERSION:2.0
PRODID:SchoolNow
CALSCALE:GREGORIAN
BEGIN:VEVENT
UID:3ba649d2-c937-11f0-aba2-0a58a9feac02
DTSTAMP:20251124T131230Z
SUMMARY:CDD Board Meeting - Aug. 2026
LOCATION:Carriage Pointe Clubhouse\, 11796 Ekker Road Gibsonton\, FL 33534 
 United States
URL;VALUE=URI:https://www.panthertrailscdd.org/calendar/8808893/cdd-board-m
 eeting-aug-2026
DTSTART:20260813T213000Z
DTEND:20260813T233000Z
END:VEVENT
END:VCALENDAR
