BEGIN:VCALENDAR
VERSION:2.0
PRODID:SchoolNow
CALSCALE:GREGORIAN
BEGIN:VEVENT
UID:44a07bca-c937-11f0-a251-0afffbeff069
DTSTAMP:20251124T131246Z
SUMMARY:CDD Board Meeting - Sept. 2026
LOCATION:Carriage Pointe Clubhouse\, 11796 Ekker Road Gibsonton\, FL 33534 
 United States
URL;VALUE=URI:https://www.panthertrailscdd.org/calendar/8808894/cdd-board-m
 eeting-sept-2026
DTSTART:20260910T213000Z
DTEND:20260910T233000Z
END:VEVENT
END:VCALENDAR
